BEGIN:VCALENDAR
VERSION:2.0
PRODID:-//dhtmlXScheduler//NONSGML v2.2//EN
X-WR-CALNAME:Wydarzenia
BEGIN:VEVENT
DTSTART:20230420T110000
DTEND:20230420T000000
UID:1
SUMMARY:Zaproszenie na wykład prof. Chrisa Browna
END:VEVENT
END:VCALENDAR