BEGIN:VCALENDAR
VERSION:2.0
PRODID:-//dhtmlXScheduler//NONSGML v2.2//EN
X-WR-CALNAME:Wydarzenia
BEGIN:VEVENT
DTSTART:20230421T100000
DTEND:20230421T120000
UID:1
SUMMARY:Zaproszenie do udziału w seminarium "The teaching-research nexus in higher education"
END:VEVENT
END:VCALENDAR