BEGIN:VCALENDAR
VERSION:2.0
PRODID:-//dhtmlXScheduler//NONSGML v2.2//EN
X-WR-CALNAME:Wydarzenia
BEGIN:VEVENT
DTSTART:20230601T100000
DTEND:20230601T143000
UID:1
SUMMARY:Zaproszenie do udziału w Seminarium naukowym „Pedagogika społeczna – dialog pokoleń. Teoretyczność, polityczność, praktyczność”
END:VEVENT
END:VCALENDAR