BEGIN:VCALENDAR
VERSION:2.0
PRODID:-//dhtmlXScheduler//NONSGML v2.2//EN
X-WR-CALNAME:Wydarzenia
BEGIN:VEVENT
DTSTART:20230601T094500
DTEND:20230601T133000
UID:1
SUMMARY:Zaproszamy do udziału w seminarium naukowym „Biograficzne, edukacyjne i artystyczne przestrzenie twórczości”
END:VEVENT
END:VCALENDAR