BEGIN:VCALENDAR
VERSION:2.0
PRODID:-//dhtmlXScheduler//NONSGML v2.2//EN
X-WR-CALNAME:Wydarzenia
BEGIN:VEVENT
DTSTART:20230918T000000
DTEND:20230919T000000
UID:1
SUMMARY:XV Konferencja z cyklu EDUKACJA MIĘDZYKULTUROWA pt.: „Dzieci, młodzież i dorośli w kontekście migracji, uchodźstwa i traumy wojennej – wyzwania i zadania edukacji”
END:VEVENT
END:VCALENDAR