BEGIN:VCALENDAR
VERSION:2.0
PRODID:-//dhtmlXScheduler//NONSGML v2.2//EN
X-WR-CALNAME:Wydarzenia
BEGIN:VEVENT
DTSTART:20250327T150000
DTEND:20250327T163000
UID:1
SUMMARY:Wykład pt. „Rozwijanie procesu umiędzynarodowienia studentów kierunków pedagogicznych: praktyki i programy wymian AFS".
END:VEVENT
END:VCALENDAR