BEGIN:VCALENDAR
VERSION:2.0
PRODID:-//dhtmlXScheduler//NONSGML v2.2//EN
X-WR-CALNAME:Wydarzenia
BEGIN:VEVENT
DTSTART:20230427T131500
DTEND:20230427T144500
UID:1
SUMMARY:Wykład dr hab. Anny Sajdak – Burskiej, prof. UJ pt. Konserwatyzm i nowoczesność w edukacji. Otwarcia i pułapki
END:VEVENT
END:VCALENDAR