BEGIN:VCALENDAR
VERSION:2.0
PRODID:-//dhtmlXScheduler//NONSGML v2.2//EN
X-WR-CALNAME:Wydarzenia
BEGIN:VEVENT
DTSTART:20240918T113000
DTEND:20240918T120000
UID:1
SUMMARY:Wybory do Rady Wydziału Nauk o Edukacji w grupie pracowników nie będących nauczycielami akademickimi
END:VEVENT
END:VCALENDAR