BEGIN:VCALENDAR
VERSION:2.0
PRODID:-//dhtmlXScheduler//NONSGML v2.2//EN
X-WR-CALNAME:Wydarzenia
BEGIN:VEVENT
DTSTART:20230918T161500
DTEND:20230918T180000
UID:1
SUMMARY:Warsztaty szkoleniowe „Praca z uczniami z doświadczeniem migracji oraz grupą zróżnicowaną kulturowo”
END:VEVENT
END:VCALENDAR