BEGIN:VCALENDAR
VERSION:2.0
PRODID:-//dhtmlXScheduler//NONSGML v2.2//EN
X-WR-CALNAME:Wydarzenia
BEGIN:VEVENT
DTSTART:20241024T000000
DTEND:20241025T000000
UID:1
SUMMARY:Warsztat pisarstwa akademickiego w języku angielskim dla badaczy w dziedzinie nauk społecznych i humanistycznych
END:VEVENT
END:VCALENDAR