BEGIN:VCALENDAR
VERSION:2.0
PRODID:-//dhtmlXScheduler//NONSGML v2.2//EN
X-WR-CALNAME:Wydarzenia
BEGIN:VEVENT
DTSTART:20250611T094500
DTEND:20250611T111500
UID:1
SUMMARY:Szkolenie z zakresu pierwszej pomocy, które przeprowadzą wykwalifikowani żołnierze Wojska Obrony Terytorialnej
END:VEVENT
END:VCALENDAR