BEGIN:VCALENDAR
VERSION:2.0
PRODID:-//dhtmlXScheduler//NONSGML v2.2//EN
X-WR-CALNAME:Wydarzenia
BEGIN:VEVENT
DTSTART:20240227T100000
DTEND:20240227T000000
UID:1
SUMMARY:Spotkanie z cyklu Podlasie w badaniach naukowych
END:VEVENT
END:VCALENDAR