BEGIN:VCALENDAR
VERSION:2.0
PRODID:-//dhtmlXScheduler//NONSGML v2.2//EN
X-WR-CALNAME:Wydarzenia
BEGIN:VEVENT
DTSTART:20230421T133000
DTEND:20230421T171000
UID:1
SUMMARY:Seminarium naukowo – dydaktyczne „Przygotowanie studentów do zawodu nauczyciela przedszkola i edukacji wczesnoszkolnej – konteksty teoretyczne i praktyczne”
END:VEVENT
END:VCALENDAR