BEGIN:VCALENDAR
VERSION:2.0
PRODID:-//dhtmlXScheduler//NONSGML v2.2//EN
X-WR-CALNAME:Wydarzenia
BEGIN:VEVENT
DTSTART:20230829T170000
DTEND:20230829T190000
UID:1
SUMMARY:Ogólnopolska Konferencja „Rozwijanie inteligencji emocjonalnej dzieci w wieku przedszkolnym”
END:VEVENT
END:VCALENDAR