BEGIN:VCALENDAR
VERSION:2.0
PRODID:-//dhtmlXScheduler//NONSGML v2.2//EN
X-WR-CALNAME:Wydarzenia
BEGIN:VEVENT
DTSTART:20240219T093000
DTEND:20260420T100256
UID:1
SUMMARY:Ogłoszenie o zebraniu wyborczym pracowników niebędących nauczycielami akademickimi
END:VEVENT
END:VCALENDAR