BEGIN:VCALENDAR
VERSION:2.0
PRODID:-//dhtmlXScheduler//NONSGML v2.2//EN
X-WR-CALNAME:Wydarzenia
BEGIN:VEVENT
DTSTART:20240521T094500
DTEND:20240521T150000
UID:1
SUMMARY:na wykład otwarty dra Ufuka Ataşa (Artvin Çoruh University, Turcja) nt: Exploring Teacher Identity in Diverse Contexts: Insights from English Language Teacher Candidates’ Practicum Experiences in Turkey
END:VEVENT
END:VCALENDAR