BEGIN:VCALENDAR
VERSION:2.0
PRODID:-//dhtmlXScheduler//NONSGML v2.2//EN
X-WR-CALNAME:Wydarzenia
BEGIN:VEVENT
DTSTART:20241121T110000
DTEND:20241121T130000
UID:1
SUMMARY:I Forum Kół Naukowych Wydziału Nauk o Edukacji
END:VEVENT
END:VCALENDAR