BEGIN:VCALENDAR
VERSION:2.0
PRODID:-//dhtmlXScheduler//NONSGML v2.2//EN
X-WR-CALNAME:Wydarzenia
BEGIN:VEVENT
DTSTART:20250328T100000
DTEND:20250328T140000
UID:1
SUMMARY:Dzień Otwarty na Wydziale Nauk o Edukacji!
END:VEVENT
END:VCALENDAR