BEGIN:VCALENDAR
VERSION:2.0
PRODID:-//dhtmlXScheduler//NONSGML v2.2//EN
X-WR-CALNAME:Wydarzenia
BEGIN:VEVENT
DTSTART:20240603T094500
DTEND:20240604T140000
UID:1
SUMMARY:Dni Wydziału Nauk o Edukacji
END:VEVENT
END:VCALENDAR