BEGIN:VCALENDAR
VERSION:2.0
PRODID:-//dhtmlXScheduler//NONSGML v2.2//EN
X-WR-CALNAME:Wydarzenia
BEGIN:VEVENT
DTSTART:20240423T094500
DTEND:20240423T114500
UID:1
SUMMARY:Debata studencka pt. Czy książki są potrzebne w studiowaniu?
END:VEVENT
END:VCALENDAR