BEGIN:VCALENDAR
VERSION:2.0
PRODID:-//dhtmlXScheduler//NONSGML v2.2//EN
X-WR-CALNAME:Wydarzenia
BEGIN:VEVENT
DTSTART:20241127T180000
DTEND:20241127T190000
UID:1
SUMMARY:Bio-hacking Happiness: Science of Breathing and Emotional Regulation
END:VEVENT
END:VCALENDAR