BEGIN:VCALENDAR
VERSION:2.0
PRODID:-//dhtmlXScheduler//NONSGML v2.2//EN
X-WR-CALNAME:Wydarzenia
BEGIN:VEVENT
DTSTART:20240520T131500
DTEND:20240520T144500
UID:1
SUMMARY:Alternatywy w edukacji. Edukacja bliska naturze.
END:VEVENT
END:VCALENDAR