BEGIN:VCALENDAR
VERSION:2.0
PRODID:-//dhtmlXScheduler//NONSGML v2.2//EN
X-WR-CALNAME:Wydarzenia
BEGIN:VEVENT
DTSTART:20231205T094500
DTEND:20231205T000000
UID:0
SUMMARY:Wykład Dr Anny Młynarczuk-Sokołowskiej „Usłyszeć głos dzieci i młodzieży ze środowiska przymusowych migrantów”,
END:VEVENT
BEGIN:VEVENT
DTSTART:20231212T090000
DTEND:20231212T130000
UID:1
SUMMARY:Zostań dawką szpiku!
END:VEVENT
BEGIN:VEVENT
DTSTART:20231212T094500
DTEND:20231212T131000
UID:2
SUMMARY:Seminarium naukowe pt. Młodzi w działaniu. Wolontariat szkolny i studencki Pamięci dr. hab. Tomasza Sosnowskiego
END:VEVENT
BEGIN:VEVENT
DTSTART:20231214T000000
DTEND:20231214T000000
UID:3
SUMMARY:Wesprzyj akcję Stowarzyszenia O!Piernicz raka _zbiórka na wyprawki dla dzieci z chorobami nowotworowymi
END:VEVENT
BEGIN:VEVENT
DTSTART:20240215T133000
DTEND:20260424T173559
UID:4
SUMMARY:Wybory do Kolegium Elektorów w grupie pozostałych nauczycieli akademickich
END:VEVENT
BEGIN:VEVENT
DTSTART:20240215T123000
DTEND:20260424T173559
UID:5
SUMMARY:Komunikat Okręgowej Komisji Wyborczej nr 13
END:VEVENT
BEGIN:VEVENT
DTSTART:20240219T093000
DTEND:20260424T173559
UID:6
SUMMARY:Ogłoszenie o zebraniu wyborczym pracowników niebędących nauczycielami akademickimi
END:VEVENT
BEGIN:VEVENT
DTSTART:20240308T094500
DTEND:20260424T173559
UID:7
SUMMARY:Zrównoważony rozwój w świecie beauty: Świadome podejście do produktów i środowiska
END:VEVENT
BEGIN:VEVENT
DTSTART:20240313T100000
DTEND:20260424T173559
UID:8
SUMMARY:Komunikat Komisji Wyborczej nr 17
END:VEVENT
BEGIN:VEVENT
DTSTART:20240318T110000
DTEND:20260424T173559
UID:9
SUMMARY:Zawiadomienie o publicznym kolokwium habilitacyjnym dr Anny Młynarczuk-Sokołowskiej
END:VEVENT
BEGIN:VEVENT
DTSTART:20240409T094500
DTEND:20260424T111500
UID:10
SUMMARY:JESTEM BO JESTEŚ. PODAJ DALEJ.
END:VEVENT
BEGIN:VEVENT
DTSTART:20240526T190000
DTEND:20260424T173559
UID:11
SUMMARY:Koncert z okazji Dnia Matki
END:VEVENT
BEGIN:VEVENT
DTSTART:20240918T000000
DTEND:20260424T173559
UID:12
SUMMARY:Uniwersytet w Białymstoku wspiera poszkodowanych przez powódź
END:VEVENT
BEGIN:VEVENT
DTSTART:20241002T000000
DTEND:20260424T173559
UID:13
SUMMARY:Wydział współorganizatorem konferencji naukowo-metodycznej „Nauczyciel jako doradca społeczny i zawodowy” – obszary doskonalenia”
END:VEVENT
BEGIN:VEVENT
DTSTART:20241003T113000
DTEND:20260424T173559
UID:14
SUMMARY:Wydziałowa Inauguracja Roku Akademickiego 2024/2025
END:VEVENT
BEGIN:VEVENT
DTSTART:20241021T000000
DTEND:20260424T173559
UID:15
SUMMARY:Międzyuczelniane Seminarium Naukowe pt. „Działania profilaktyczno-wychowawcze w zróżnicowanych środowiskach” - 21 października 2024 r.
END:VEVENT
BEGIN:VEVENT
DTSTART:20241118T113000
DTEND:20260424T173559
UID:16
SUMMARY:Seminarium dydaktyczne "Dzieciństwo bez przemocy"
END:VEVENT
BEGIN:VEVENT
DTSTART:20241119T094500
DTEND:20260424T173559
UID:17
SUMMARY:Wykład prof. dra hab. Daniela Boduszka pt. "Osobowość psychopatyczna w świetlne najnowszych badań naukowych"
END:VEVENT
BEGIN:VEVENT
DTSTART:20241120T094500
DTEND:20260424T173559
UID:18
SUMMARY:Szkolenie z multiwyszukiwarki EDS firmy EBSCO
END:VEVENT
BEGIN:VEVENT
DTSTART:20241125T131500
DTEND:20260424T173559
UID:19
SUMMARY:Ogólnopolski Dzień Erasmusa – 25 listopada
END:VEVENT
BEGIN:VEVENT
DTSTART:20241126T113000
DTEND:20260424T173559
UID:20
SUMMARY:Zaproszenie na przedstawienie Teatru Amatorskiego z Dubna (k. Bielska Podlaskiego) sztuki Heleny Aleksiejuk pt: „Timoszka".
END:VEVENT
BEGIN:VEVENT
DTSTART:20241203T133000
DTEND:20260424T173559
UID:21
SUMMARY:Spotkanie z Wicekonsul w Ambasadzie Stanów Zjednoczonych w Warszawie
END:VEVENT
BEGIN:VEVENT
DTSTART:20241210T130000
DTEND:20260424T173559
UID:22
SUMMARY:Publiczna obrona rozprawy doktorskiej mgr Justyny Juszczak
END:VEVENT
BEGIN:VEVENT
DTSTART:20241211T113000
DTEND:20260424T173559
UID:23
SUMMARY:Wykład prof. AEH dr hab. Radosława Rogozy pt.: "Wprowadzenie do intensywnych badań podłużnych oraz ocena ich użyteczności z perspektywy psychologii i pedagogiki"
END:VEVENT
BEGIN:VEVENT
DTSTART:20241213T100000
DTEND:20260424T173559
UID:24
SUMMARY:Publiczna obrona rozprawy doktorskiej mgr. Piotra Remży
END:VEVENT
BEGIN:VEVENT
DTSTART:20250227T131500
DTEND:20260424T173559
UID:25
SUMMARY:Spotkanie autorskie z dr Zofią Olek-Redlarską
END:VEVENT
BEGIN:VEVENT
DTSTART:20250301T113000
DTEND:20260424T173559
UID:26
SUMMARY:Jak pozytywnie wpływać na dzieci i młodzież, aby uczyły się trzeźwości? - spotkanie z dr hab. K. Wojcieszkiem, prof. SWWS
END:VEVENT
END:VCALENDAR