BEGIN:VCALENDAR
VERSION:2.0
PRODID:-//dhtmlXScheduler//NONSGML v2.2//EN
X-WR-CALNAME:Wydarzenia
BEGIN:VEVENT
DTSTART:20251006T000000
DTEND:20251016T000000
UID:0
SUMMARY:Biblioteka Uniwersytecka zaprasza na szkolenie biblioteczne dla studentów pierwszego roku
END:VEVENT
BEGIN:VEVENT
DTSTART:20251009T131500
DTEND:20251009T144500
UID:1
SUMMARY:Wykład prof. Mariji Sablić (Josip Juraj Strossmayer University of Osijek (Chorwacja), pt. Revisiting Montessori pedagogy: New interpretations for contemporary education
END:VEVENT
END:VCALENDAR