BEGIN:VCALENDAR
VERSION:2.0
PRODID:-//dhtmlXScheduler//NONSGML v2.2//EN
X-WR-CALNAME:Wydarzenia
BEGIN:VEVENT
DTSTART:20250606T090000
DTEND:20250606T000000
UID:0
SUMMARY:Szkolenie z pisania wniosków grantowych NCN/ERC
END:VEVENT
BEGIN:VEVENT
DTSTART:20250610T094500
DTEND:20250610T111500
UID:1
SUMMARY:Zaproszenie na wykład dr hab. Joanny Ostrouch-Kamińskiej, prof. UWM
END:VEVENT
BEGIN:VEVENT
DTSTART:20250611T094500
DTEND:20250611T111500
UID:2
SUMMARY:Szkolenie z zakresu pierwszej pomocy, które przeprowadzą wykwalifikowani żołnierze Wojska Obrony Terytorialnej
END:VEVENT
BEGIN:VEVENT
DTSTART:20250612T113000
DTEND:20250612T130000
UID:3
SUMMARY:Zaproszenie na spotkanie z badaczami z Uniwersytetu Ma'mun w Uzbekistanie
END:VEVENT
END:VCALENDAR