BEGIN:VCALENDAR
VERSION:2.0
PRODID:-//dhtmlXScheduler//NONSGML v2.2//EN
X-WR-CALNAME:Wydarzenia
BEGIN:VEVENT
DTSTART:20250506T131500
DTEND:20250506T144500
UID:0
SUMMARY:Prapremiera spektaklu "Ferrando AI" - Studenckie Koło Teatralne "StuKoT" zaprasza
END:VEVENT
BEGIN:VEVENT
DTSTART:20250507T183000
DTEND:20250507T200000
UID:1
SUMMARY:Premiera spektaklu "Ferrando AI" - Studenckie Koło Teatralne "StuKoT" zaprasza
END:VEVENT
BEGIN:VEVENT
DTSTART:20250509T120000
DTEND:20250509T133000
UID:2
SUMMARY:Sztuka efektywnej komunikacji interpersonalnej
END:VEVENT
BEGIN:VEVENT
DTSTART:20250509T091500
DTEND:20250509T103000
UID:3
SUMMARY:Teatrzyk Kamishibay – dr hab. Anna Józefowicz, prof. UwB
END:VEVENT
BEGIN:VEVENT
DTSTART:20250512T113000
DTEND:20250512T130000
UID:4
SUMMARY:Od penicyliny po mikroskop – wielkie odkrycia, które zmieniły medycynę
END:VEVENT
BEGIN:VEVENT
DTSTART:20250512T100000
DTEND:20250512T121500
UID:5
SUMMARY:Sterowanie robotami za pomocą barw – warsztaty STREAM dla dzieci
END:VEVENT
BEGIN:VEVENT
DTSTART:20250512T093000
DTEND:20250512T111500
UID:6
SUMMARY:W świecie pszczół
END:VEVENT
BEGIN:VEVENT
DTSTART:20250512T183000
DTEND:20250512T200000
UID:7
SUMMARY:Pokaz festiwalowy "Ferrando AI" - Studenckie Koło Teatralne "StuKoT" zaprasza
END:VEVENT
BEGIN:VEVENT
DTSTART:20250513T170000
DTEND:20250513T183000
UID:8
SUMMARY:Wytańczyć siebie – warsztaty rozwoju osobistego oparte o ruch i pracę  z ciałem
END:VEVENT
BEGIN:VEVENT
DTSTART:20250514T100000
DTEND:20250514T111000
UID:9
SUMMARY:Budujemy mosty między pokoleniami – mówimy „stop” przemocy!
END:VEVENT
BEGIN:VEVENT
DTSTART:20250515T170000
DTEND:20250515T171500
UID:10
SUMMARY:Znaczenie platform społecznościowych w promowaniu czytelnictwa
END:VEVENT
BEGIN:VEVENT
DTSTART:20250515T164500
DTEND:20250515T170000
UID:11
SUMMARY:Wolontariat w Duszpasterstwie Drabiny Jakubowej jako sposób pogłębiania  relacji społecznych
END:VEVENT
BEGIN:VEVENT
DTSTART:20250515T163000
DTEND:20250515T164500
UID:12
SUMMARY:Autonomia dziecka jako proces: przejawy samodzielności na co dzień
END:VEVENT
BEGIN:VEVENT
DTSTART:20250515T161500
DTEND:20250515T163000
UID:13
SUMMARY:Wychowanie z planszówką
END:VEVENT
BEGIN:VEVENT
DTSTART:20250515T153000
DTEND:20250515T170000
UID:14
SUMMARY:Długoterminowe mobilności zagraniczne uczniów szkół ponadpodstawowych:  procedury, finansowanie i uznawalność efektów uczenia się za granicą –
END:VEVENT
BEGIN:VEVENT
DTSTART:20250515T130000
DTEND:20250515T140000
UID:15
SUMMARY:Milenium koronacji – Bolesław Chrobry i jego dziedzictwo
END:VEVENT
BEGIN:VEVENT
DTSTART:20250515T113000
DTEND:20250515T123000
UID:16
SUMMARY:Nie lekceważ mózgu, który myśli inaczej… między impulsem a moralnością
END:VEVENT
BEGIN:VEVENT
DTSTART:20250515T100000
DTEND:20250515T133000
UID:17
SUMMARY:Razem możemy więcej – warsztaty o Wolontariacie, Empatii i Mentoringu
END:VEVENT
BEGIN:VEVENT
DTSTART:20250515T090000
DTEND:20250515T103000
UID:18
SUMMARY:Mały krok dla człowieka, ale wielki dla świata – o ekologii z robotem Photon
END:VEVENT
BEGIN:VEVENT
DTSTART:20250516T090000
DTEND:20250516T100000
UID:19
SUMMARY:Warsztaty Małych Odkrywców
END:VEVENT
BEGIN:VEVENT
DTSTART:20250526T131500
DTEND:20250526T144500
UID:20
SUMMARY:SEMINARIUM Z CYKLU : ALTERNATYWY W EDUKACJI. Jak empatyczna komunikacja zmienia edukację?
END:VEVENT
BEGIN:VEVENT
DTSTART:20250527T090000
DTEND:20250527T133000
UID:21
SUMMARY:Zadbaj o Siebie - akcja profilaktyczna
END:VEVENT
END:VCALENDAR