BEGIN:VCALENDAR
VERSION:2.0
PRODID:-//dhtmlXScheduler//NONSGML v2.2//EN
X-WR-CALNAME:Wydarzenia
BEGIN:VEVENT
DTSTART:20250402T094500
DTEND:20250402T151500
UID:0
SUMMARY:Międzynarodowy Dzień Książki dla Dzieci 2 kwietnia 2025 roku
END:VEVENT
BEGIN:VEVENT
DTSTART:20250409T083000
DTEND:20250409T170000
UID:1
SUMMARY:Ogólnopolska Konferencja Naukowo-Dydaktyczna „Od tradycji do innowacji” Białystok jako laboratorium edukacyjnych przemian 9 kwietnia 2025 r.
END:VEVENT
BEGIN:VEVENT
DTSTART:20250415T100000
DTEND:20250415T140000
UID:2
SUMMARY:Dzień Otwarty Uniwersytetu w Białymstoku. 15 kwietnia spotkajmy się w kampusie UwB!
END:VEVENT
BEGIN:VEVENT
DTSTART:20250416T150000
DTEND:20250416T163000
UID:3
SUMMARY:Zaproszenie na wykład Pani Edyty Tamošiūnaitė z Uniwersytetu Michała Römera w Wilnie.
END:VEVENT
BEGIN:VEVENT
DTSTART:20250423T094500
DTEND:20250423T130000
UID:4
SUMMARY:Seminarium naukowe z okazji Światowego Dnia Książki i Praw Autorskich
END:VEVENT
BEGIN:VEVENT
DTSTART:20250424T093000
DTEND:20250424T113000
UID:5
SUMMARY:Sztuczna inteligencja w ocenie studentów pedagogiki – korzyści, zagrożenia, oczekiwania
END:VEVENT
END:VCALENDAR