BEGIN:VCALENDAR
VERSION:2.0
PRODID:-//dhtmlXScheduler//NONSGML v2.2//EN
X-WR-CALNAME:Wydarzenia
BEGIN:VEVENT
DTSTART:20250114T000000
DTEND:20250114T000000
UID:0
SUMMARY:Otwarte spotkanie z dr. Waltem Stepnowskim z Temple University (Stany Zjednoczone)
END:VEVENT
BEGIN:VEVENT
DTSTART:20250118T160000
DTEND:20250118T000000
UID:1
SUMMARY:Rekrutacja do Szkoły Doktorskiej UwB w praktyce. Zapraszamy na spotkanie
END:VEVENT
BEGIN:VEVENT
DTSTART:20250130T113000
DTEND:20250130T123000
UID:2
SUMMARY:Zaproszenie do udziału w dyskusji na temat uwarunkowań dobrostanu pedagogów
END:VEVENT
BEGIN:VEVENT
DTSTART:20250227T131500
DTEND:20260421T070617
UID:3
SUMMARY:Spotkanie autorskie z dr Zofią Olek-Redlarską
END:VEVENT
BEGIN:VEVENT
DTSTART:20250301T113000
DTEND:20260421T070617
UID:4
SUMMARY:Jak pozytywnie wpływać na dzieci i młodzież, aby uczyły się trzeźwości? - spotkanie z dr hab. K. Wojcieszkiem, prof. SWWS
END:VEVENT
END:VCALENDAR